BEGIN:VCALENDAR
VERSION:2.0
PRODID:-//Karthix Web World - ECPv6.14.2//NONSGML v1.0//EN
CALSCALE:GREGORIAN
METHOD:PUBLISH
X-WR-CALNAME:Karthix Web World
X-ORIGINAL-URL:https://karthik.sg
X-WR-CALDESC:Events for Karthix Web World
REFRESH-INTERVAL;VALUE=DURATION:PT1H
X-Robots-Tag:noindex
X-PUBLISHED-TTL:PT1H
BEGIN:VTIMEZONE
TZID:Asia/Kolkata
BEGIN:STANDARD
TZOFFSETFROM:+0530
TZOFFSETTO:+0530
TZNAME:IST
DTSTART:20240101T000000
END:STANDARD
END:VTIMEZONE
BEGIN:VEVENT
DTSTART;TZID=Asia/Kolkata:20241013T080000
DTEND;TZID=Asia/Kolkata:20241013T170000
DTSTAMP:20260420T211515
CREATED:20251209T111643Z
LAST-MODIFIED:20251209T111839Z
UID:29808-1728806400-1728838800@karthik.sg
SUMMARY:Send off to chicago
DESCRIPTION:Met my college mate Muthukumar Ramasamy Pillai after 29 years
URL:https://karthik.sg/event/send-off-to-chicago/
CATEGORIES:Celebrations,Functions
ORGANIZER;CN="Alagappan Karthikeyan":MAILTO:me@karthik.sg
END:VEVENT
BEGIN:VEVENT
DTSTART;TZID=Asia/Kolkata:20241013T080000
DTEND;TZID=Asia/Kolkata:20241013T170000
DTSTAMP:20260420T211515
CREATED:20251209T112156Z
LAST-MODIFIED:20251209T112929Z
UID:29813-1728806400-1728838800@karthik.sg
SUMMARY:Aurora Balaji Temple.
DESCRIPTION:Met my college mate Muthukumar Ramasamy Pillai after 29 years
URL:https://karthik.sg/event/aurora-balaji-temple/
LOCATION:United States\, United States
ORGANIZER;CN="Alagappan Karthikeyan":MAILTO:me@karthik.sg
END:VEVENT
BEGIN:VEVENT
DTSTART;TZID=Asia/Kolkata:20241016T080000
DTEND;TZID=Asia/Kolkata:20241016T170000
DTSTAMP:20260420T211515
CREATED:20251209T111219Z
LAST-MODIFIED:20251209T111416Z
UID:29802-1729065600-1729098000@karthik.sg
SUMMARY:Mr.kanapathy maruthamuthu\, vijay from chicago tamil sangam
DESCRIPTION:Met my college mate Muthukumar Ramasamy Pillai after 29 years
URL:https://karthik.sg/event/mr-kanapathy-maruthamuthu-vijay-from-chicago-tamil-sangam/
LOCATION:United States\, United States
CATEGORIES:General Projects
ORGANIZER;CN="Alagappan Karthikeyan":MAILTO:me@karthik.sg
END:VEVENT
BEGIN:VEVENT
DTSTART;TZID=Asia/Kolkata:20241021T080000
DTEND;TZID=Asia/Kolkata:20241021T170000
DTSTAMP:20260420T211515
CREATED:20251209T110802Z
LAST-MODIFIED:20251209T110930Z
UID:29797-1729497600-1729530000@karthik.sg
SUMMARY:https://கார்த்திக்.இந்தியா
DESCRIPTION:Met my college mate Muthukumar Ramasamy Pillai after 29 years
URL:https://karthik.sg/event/https-%e0%ae%95%e0%ae%be%e0%ae%b0%e0%af%8d%e0%ae%a4%e0%af%8d%e0%ae%a4%e0%ae%bf%e0%ae%95%e0%af%8d-%e0%ae%87%e0%ae%a8%e0%af%8d%e0%ae%a4%e0%ae%bf%e0%ae%af%e0%ae%be/
LOCATION:india\, India
CATEGORIES:Cobra Team,General Projects
ORGANIZER;CN="Alagappan Karthikeyan":MAILTO:me@karthik.sg
END:VEVENT
BEGIN:VEVENT
DTSTART;TZID=Asia/Kolkata:20241023T080000
DTEND;TZID=Asia/Kolkata:20241023T170000
DTSTAMP:20260420T211515
CREATED:20251209T100519Z
LAST-MODIFIED:20251209T110422Z
UID:29786-1729670400-1729702800@karthik.sg
SUMMARY:23 October 2024
DESCRIPTION:Met my college mate Muthukumar Ramasamy Pillai after 29 years
URL:https://karthik.sg/event/23-october-2024/
CATEGORIES:AI Conference,General Projects
ORGANIZER;CN="Alagappan Karthikeyan":MAILTO:me@karthik.sg
END:VEVENT
BEGIN:VEVENT
DTSTART;TZID=Asia/Kolkata:20241026T080000
DTEND;TZID=Asia/Kolkata:20241026T170000
DTSTAMP:20260420T211515
CREATED:20251209T065426Z
LAST-MODIFIED:20251209T070504Z
UID:29773-1729929600-1729962000@karthik.sg
SUMMARY:Millennium Park Downtown Chicago.
DESCRIPTION:Met my college mate Muthukumar Ramasamy Pillai after 29 years
URL:https://karthik.sg/event/millennium-park-downtown-chicago/
LOCATION:chicako\, United States
CATEGORIES:General Projects
ORGANIZER;CN="Alagappan Karthikeyan":MAILTO:me@karthik.sg
END:VEVENT
BEGIN:VEVENT
DTSTART;TZID=Asia/Kolkata:20241027T080000
DTEND;TZID=Asia/Kolkata:20241027T170000
DTSTAMP:20260420T211515
CREATED:20251209T055933Z
LAST-MODIFIED:20251209T060107Z
UID:29732-1730016000-1730048400@karthik.sg
SUMMARY:Signed MOU with www.gammaware.ca for AIML and IOT services
DESCRIPTION:Met my college mate Muthukumar Ramasamy Pillai after 29 years
URL:https://karthik.sg/event/signed-mou-with-www-gammaware-ca-for-aiml-and-iot-services/
CATEGORIES:IOT Projects
ORGANIZER;CN="Alagappan Karthikeyan":MAILTO:me@karthik.sg
END:VEVENT
BEGIN:VEVENT
DTSTART;TZID=Asia/Kolkata:20241027T080000
DTEND;TZID=Asia/Kolkata:20241027T170000
DTSTAMP:20260420T211515
CREATED:20251209T060449Z
LAST-MODIFIED:20251209T060711Z
UID:29737-1730016000-1730048400@karthik.sg
SUMMARY:Athidhi Indian Restaurant.
DESCRIPTION:Met my college mate Muthukumar Ramasamy Pillai after 29 years
URL:https://karthik.sg/event/athidhi-indian-restaurant/
CATEGORIES:General,General Projects
ORGANIZER;CN="Alagappan Karthikeyan":MAILTO:me@karthik.sg
END:VEVENT
BEGIN:VEVENT
DTSTART;TZID=Asia/Kolkata:20241027T080000
DTEND;TZID=Asia/Kolkata:20241027T170000
DTSTAMP:20260420T211515
CREATED:20251209T061347Z
LAST-MODIFIED:20251209T064900Z
UID:29743-1730016000-1730048400@karthik.sg
SUMMARY:Chicago Downtown.
DESCRIPTION:Met my college mate Muthukumar Ramasamy Pillai after 29 years
URL:https://karthik.sg/event/chicago-downtown/
LOCATION:chicako\, United States
CATEGORIES:General,General Projects
ORGANIZER;CN="Alagappan Karthikeyan":MAILTO:me@karthik.sg
END:VEVENT
BEGIN:VEVENT
DTSTART;TZID=Asia/Kolkata:20241027T080000
DTEND;TZID=Asia/Kolkata:20241027T170000
DTSTAMP:20260420T211515
CREATED:20251209T065119Z
LAST-MODIFIED:20251209T065233Z
UID:29768-1730016000-1730048400@karthik.sg
SUMMARY:The Wild Robot.
DESCRIPTION:Met my college mate Muthukumar Ramasamy Pillai after 29 years
URL:https://karthik.sg/event/the-wild-robot/
LOCATION:chicako\, United States
CATEGORIES:General Projects
ORGANIZER;CN="Alagappan Karthikeyan":MAILTO:me@karthik.sg
END:VEVENT
BEGIN:VEVENT
DTSTART;TZID=Asia/Kolkata:20241028T080000
DTEND;TZID=Asia/Kolkata:20241028T170000
DTSTAMP:20260420T211515
CREATED:20251209T054721Z
LAST-MODIFIED:20251209T055438Z
UID:29721-1730102400-1730134800@karthik.sg
SUMMARY:Prakash Siva you did not come to see me right ??
DESCRIPTION:Met my college mate Muthukumar Ramasamy Pillai after 29 years
URL:https://karthik.sg/event/prakash-siva-you-did-not-come-to-see-me-right/
LOCATION:Canada\, Canada
CATEGORIES:General,General Projects
ORGANIZER;CN="Alagappan Karthikeyan":MAILTO:me@karthik.sg
END:VEVENT
BEGIN:VEVENT
DTSTART;TZID=Asia/Kolkata:20241031T080000
DTEND;TZID=Asia/Kolkata:20241031T170000
DTSTAMP:20260420T211515
CREATED:20251209T053625Z
LAST-MODIFIED:20251209T054121Z
UID:29713-1730361600-1730394000@karthik.sg
SUMMARY:With balaji rajagopal and family and dear sastika
DESCRIPTION:Met my college mate Muthukumar Ramasamy Pillai after 29 years
URL:https://karthik.sg/event/with-balaji-rajagopal-and-family-and-dear-sastika/
LOCATION:chicako\, United States
CATEGORIES:General
ORGANIZER;CN="Alagappan Karthikeyan":MAILTO:me@karthik.sg
END:VEVENT
END:VCALENDAR