BEGIN:VCALENDAR
VERSION:2.0
PRODID:-//Karthix Web World - ECPv6.14.2//NONSGML v1.0//EN
CALSCALE:GREGORIAN
METHOD:PUBLISH
X-ORIGINAL-URL:https://karthik.sg
X-WR-CALDESC:Events for Karthix Web World
REFRESH-INTERVAL;VALUE=DURATION:PT1H
X-Robots-Tag:noindex
X-PUBLISHED-TTL:PT1H
BEGIN:VTIMEZONE
TZID:Asia/Kolkata
BEGIN:STANDARD
TZOFFSETFROM:+0530
TZOFFSETTO:+0530
TZNAME:IST
DTSTART:20220101T000000
END:STANDARD
END:VTIMEZONE
BEGIN:VEVENT
DTSTART;TZID=Asia/Kolkata:20251225T080000
DTEND;TZID=Asia/Kolkata:20251225T170000
DTSTAMP:20260419T185400
CREATED:20260105T051433Z
LAST-MODIFIED:20260105T052727Z
UID:30640-1766649600-1766682000@karthik.sg
SUMMARY:Winning moment memories
DESCRIPTION:SIH 2025 – PS ID 25223 – National Winners – Sri Ramakrishna College Coimbatore. Proud moment       
URL:https://karthik.sg/event/winning-moment-memories/
LOCATION:Chennai\, India
CATEGORIES:Awards,Celebrations,Functions
ORGANIZER;CN="Alagappan Karthikeyan":MAILTO:me@karthik.sg
END:VEVENT
BEGIN:VEVENT
DTSTART;TZID=Asia/Kolkata:20251212T080000
DTEND;TZID=Asia/Kolkata:20251212T170000
DTSTAMP:20260419T185400
CREATED:20260105T054238Z
LAST-MODIFIED:20260105T054530Z
UID:30667-1765526400-1765558800@karthik.sg
SUMMARY:SIH 2025 - PS ID 25223 - National Winners
DESCRIPTION:SIH 2025 – PS ID 25223 – National Winners – Sri Ramakrishna College Coimbatore. Proud moment       
URL:https://karthik.sg/event/sih-2025-ps-id-25223-national-winners/
LOCATION:Chennai\, India
CATEGORIES:Awards,Celebrations
ORGANIZER;CN="Alagappan Karthikeyan":MAILTO:me@karthik.sg
END:VEVENT
BEGIN:VEVENT
DTSTART;TZID=Asia/Kolkata:20241210T080000
DTEND;TZID=Asia/Kolkata:20241210T170000
DTSTAMP:20260419T185400
CREATED:20251209T045605Z
LAST-MODIFIED:20251209T050117Z
UID:29689-1733817600-1733850000@karthik.sg
SUMMARY:Amal Jyothi College of Engineering - Autonomous.
DESCRIPTION:SIH 2025 – PS ID 25223 – National Winners – Sri Ramakrishna College Coimbatore. Proud moment       
URL:https://karthik.sg/event/amal-jyothi-college-of-engineering-autonomous/
LOCATION:Kerala\, India
CATEGORIES:Awards,Celebrations,Functions,General
ORGANIZER;CN="Alagappan Karthikeyan":MAILTO:me@karthik.sg
END:VEVENT
BEGIN:VEVENT
DTSTART;TZID=Asia/Kolkata:20231201T080000
DTEND;TZID=Asia/Kolkata:20231201T170000
DTSTAMP:20260419T185400
CREATED:20251210T084626Z
LAST-MODIFIED:20251210T084951Z
UID:30029-1701417600-1701450000@karthik.sg
SUMMARY:தென்மொழி இதழுக்கு தமிழக அரசின் தூய தமிழ் ஊடக விருது
DESCRIPTION:SIH 2025 – PS ID 25223 – National Winners – Sri Ramakrishna College Coimbatore. Proud moment       
URL:https://karthik.sg/event/%e0%ae%a4%e0%af%86%e0%ae%a9%e0%af%8d%e0%ae%ae%e0%af%8a%e0%ae%b4%e0%ae%bf-%e0%ae%87%e0%ae%a4%e0%ae%b4%e0%af%81%e0%ae%95%e0%af%8d%e0%ae%95%e0%af%81-%e0%ae%a4%e0%ae%ae%e0%ae%bf%e0%ae%b4%e0%ae%95/
CATEGORIES:Awards
ORGANIZER;CN="Alagappan Karthikeyan":MAILTO:me@karthik.sg
END:VEVENT
BEGIN:VEVENT
DTSTART;TZID=Asia/Kolkata:20230219T080000
DTEND;TZID=Asia/Kolkata:20230219T170000
DTSTAMP:20260419T185400
CREATED:20250705T055321Z
LAST-MODIFIED:20250731T070500Z
UID:27647-1676793600-1676826000@karthik.sg
SUMMARY:Vavuniya\, Sri Lanka
DESCRIPTION:SIH 2025 – PS ID 25223 – National Winners – Sri Ramakrishna College Coimbatore. Proud moment       
URL:https://karthik.sg/event/vavuniya-sri-lanka/
LOCATION:Sri Lanka
CATEGORIES:Awards,Celebrations
ORGANIZER;CN="Alagappan Karthikeyan":MAILTO:me@karthik.sg
END:VEVENT
BEGIN:VEVENT
DTSTART;TZID=Asia/Kolkata:20220308T080000
DTEND;TZID=Asia/Kolkata:20220308T170000
DTSTAMP:20260419T185400
CREATED:20251211T103640Z
LAST-MODIFIED:20251211T103814Z
UID:30359-1646726400-1646758800@karthik.sg
SUMMARY:India Pavilion - EXPO 2020 Dubai
DESCRIPTION:SIH 2025 – PS ID 25223 – National Winners – Sri Ramakrishna College Coimbatore. Proud moment       
URL:https://karthik.sg/event/india-pavilion-expo-2020-dubai/
LOCATION:Dubai\, United Arab Emirates
CATEGORIES:Awards
ORGANIZER;CN="Alagappan Karthikeyan":MAILTO:me@karthik.sg
END:VEVENT
BEGIN:VEVENT
DTSTART;TZID=Asia/Kolkata:20220217T080000
DTEND;TZID=Asia/Kolkata:20220217T170000
DTSTAMP:20260419T185400
CREATED:20250621T144734Z
LAST-MODIFIED:20250621T151523Z
UID:25976-1645084800-1645117200@karthik.sg
SUMMARY:India First Startup Event 2022
DESCRIPTION:SIH 2025 – PS ID 25223 – National Winners – Sri Ramakrishna College Coimbatore. Proud moment       
URL:https://karthik.sg/event/india-first-startup-event-2022/
LOCATION:AICRA – Le Meridien New Delhi\, Le Meridien\, Windsor Place\,\, New Delhi\, India
CATEGORIES:Awards
ATTACH;FMTTYPE=image/png:https://karthik.sg/wp-content/uploads/2025/06/award-cobra-karthik.png
END:VEVENT
END:VCALENDAR