BEGIN:VCALENDAR
VERSION:2.0
PRODID:-//Karthix Web World - ECPv6.14.2//NONSGML v1.0//EN
CALSCALE:GREGORIAN
METHOD:PUBLISH
X-ORIGINAL-URL:https://karthik.sg
X-WR-CALDESC:Events for Karthix Web World
REFRESH-INTERVAL;VALUE=DURATION:PT1H
X-Robots-Tag:noindex
X-PUBLISHED-TTL:PT1H
BEGIN:VTIMEZONE
TZID:Asia/Kolkata
BEGIN:STANDARD
TZOFFSETFROM:+0530
TZOFFSETTO:+0530
TZNAME:IST
DTSTART:20250101T000000
END:STANDARD
END:VTIMEZONE
BEGIN:VEVENT
DTSTART;TZID=Asia/Kolkata:20250711T080000
DTEND;TZID=Asia/Kolkata:20250711T170000
DTSTAMP:20260420T061339
CREATED:20250711T075050Z
LAST-MODIFIED:20250731T070911Z
UID:27963-1752220800-1752253200@karthik.sg
SUMMARY:Tree can't stand without root \, pure souls can't stand without eternal souls(அப்பா)
DESCRIPTION:Met my college mate Muthukumar Ramasamy Pillai after 29 years
URL:https://karthik.sg/event/tree-cant-stand-without-root-pure-souls-cant-stand-without-eternal-souls%e0%ae%85%e0%ae%aa%e0%af%8d%e0%ae%aa%e0%ae%be/
CATEGORIES:Celebrations
END:VEVENT
END:VCALENDAR