BEGIN:VCALENDAR
VERSION:2.0
PRODID:-//Karthix Web World - ECPv6.14.2//NONSGML v1.0//EN
CALSCALE:GREGORIAN
METHOD:PUBLISH
X-WR-CALNAME:Karthix Web World
X-ORIGINAL-URL:https://karthik.sg
X-WR-CALDESC:Events for Karthix Web World
REFRESH-INTERVAL;VALUE=DURATION:PT1H
X-Robots-Tag:noindex
X-PUBLISHED-TTL:PT1H
BEGIN:VTIMEZONE
TZID:Asia/Kolkata
BEGIN:STANDARD
TZOFFSETFROM:+0530
TZOFFSETTO:+0530
TZNAME:IST
DTSTART:20250101T000000
END:STANDARD
END:VTIMEZONE
BEGIN:VEVENT
DTSTART;TZID=Asia/Kolkata:20250708T080000
DTEND;TZID=Asia/Kolkata:20250708T170000
DTSTAMP:20260420T060930
CREATED:20250708T121748Z
LAST-MODIFIED:20250730T064619Z
UID:27801-1751961600-1751994000@karthik.sg
SUMMARY:Short meeting with Vanagam Kumar Brother
DESCRIPTION:Met my college mate Muthukumar Ramasamy Pillai after 29 years
URL:https://karthik.sg/event/short-meeting-with-vanagam-kumar-brother/
LOCATION:Gobichettipalaiyam\, India
CATEGORIES:Celebrations
ORGANIZER;CN="Alagappan Karthikeyan":MAILTO:me@karthik.sg
END:VEVENT
END:VCALENDAR