BEGIN:VCALENDAR
VERSION:2.0
PRODID:-//Karthix Web World - ECPv6.14.2//NONSGML v1.0//EN
CALSCALE:GREGORIAN
METHOD:PUBLISH
X-ORIGINAL-URL:https://karthik.sg
X-WR-CALDESC:Events for Karthix Web World
REFRESH-INTERVAL;VALUE=DURATION:PT1H
X-Robots-Tag:noindex
X-PUBLISHED-TTL:PT1H
BEGIN:VTIMEZONE
TZID:Asia/Kolkata
BEGIN:STANDARD
TZOFFSETFROM:+0530
TZOFFSETTO:+0530
TZNAME:IST
DTSTART:20250101T000000
END:STANDARD
END:VTIMEZONE
BEGIN:VEVENT
DTSTART;TZID=Asia/Kolkata:20250611T080000
DTEND;TZID=Asia/Kolkata:20250611T170000
DTSTAMP:20260420T085225
CREATED:20250703T074051Z
LAST-MODIFIED:20250724T110830Z
UID:27541-1749628800-1749661200@karthik.sg
SUMMARY:Nikkah@Wedding-11June2025
DESCRIPTION:Met my college mate Muthukumar Ramasamy Pillai after 29 years
URL:https://karthik.sg/event/nikkahwedding-11june2025/
LOCATION:india\, India
CATEGORIES:Celebrations,Functions
ATTACH;FMTTYPE=image/png:https://karthik.sg/wp-content/uploads/2025/07/Nikkah-11June2025.png
ORGANIZER;CN="Alagappan Karthikeyan":MAILTO:me@karthik.sg
END:VEVENT
END:VCALENDAR