BEGIN:VCALENDAR
VERSION:2.0
PRODID:-//Karthix Web World - ECPv6.14.2//NONSGML v1.0//EN
CALSCALE:GREGORIAN
METHOD:PUBLISH
X-ORIGINAL-URL:https://karthik.sg
X-WR-CALDESC:Events for Karthix Web World
REFRESH-INTERVAL;VALUE=DURATION:PT1H
X-Robots-Tag:noindex
X-PUBLISHED-TTL:PT1H
BEGIN:VTIMEZONE
TZID:Asia/Kolkata
BEGIN:STANDARD
TZOFFSETFROM:+0530
TZOFFSETTO:+0530
TZNAME:IST
DTSTART:20240101T000000
END:STANDARD
END:VTIMEZONE
BEGIN:VEVENT
DTSTART;TZID=Asia/Kolkata:20240723T080000
DTEND;TZID=Asia/Kolkata:20240723T170000
DTSTAMP:20260424T191034
CREATED:20251210T042932Z
LAST-MODIFIED:20251210T043105Z
UID:29884-1721721600-1721754000@karthik.sg
SUMMARY:என் பெரியப்பா பொள்ளாச்சி ஆடிட்டர் ஆர்.சிவராஜ் மறைந்தார்
DESCRIPTION:Met my college mate Muthukumar Ramasamy Pillai after 29 years
URL:https://karthik.sg/event/%e0%ae%8e%e0%ae%a9%e0%af%8d-%e0%ae%aa%e0%af%86%e0%ae%b0%e0%ae%bf%e0%ae%af%e0%ae%aa%e0%af%8d%e0%ae%aa%e0%ae%be-%e0%ae%aa%e0%af%8a%e0%ae%b3%e0%af%8d%e0%ae%b3%e0%ae%be%e0%ae%9a%e0%af%8d%e0%ae%9a%e0%ae%bf/
LOCATION:Pollachi\, India
CATEGORIES:General
ORGANIZER;CN="Alagappan Karthikeyan":MAILTO:me@karthik.sg
END:VEVENT
END:VCALENDAR